    BEGIN:VCALENDAR
VERSION:2.0
PRODID:-//wp-events-plugin.com//7.2.3.1//EN
TZID:Europe/Stockholm
X-WR-TIMEZONE:Europe/Stockholm
BEGIN:VEVENT
UID:14@nordicaudio.eu
DTSTART;TZID=Europe/Stockholm:20230315T093000
DTEND;TZID=Europe/Stockholm:20230315T113000
DTSTAMP:20230315T174719Z
URL:https://nordicaudio.eu/events/culture-house-stockholm/
SUMMARY:Culture House Stockholm
DESCRIPTION:
ATTACH;FMTTYPE=image/jpeg:https://nordicaudio.eu/wp-content/uploads/2023/0
 3/IMG_6877-scaled.jpeg
END:VEVENT
BEGIN:VTIMEZONE
TZID:Europe/Stockholm
X-LIC-LOCATION:Europe/Stockholm
BEGIN:STANDARD
DTSTART:20221030T020000
TZOFFSETFROM:+0200
TZOFFSETTO:+0100
TZNAME:CET
END:STANDARD
END:VTIMEZONE
END:VCALENDAR