    BEGIN:VCALENDAR
VERSION:2.0
PRODID:-//wp-events-plugin.com//7.2.3.1//EN
TZID:Europe/Stockholm
X-WR-TIMEZONE:Europe/Stockholm
BEGIN:VEVENT
UID:10@nordicaudio.eu
DTSTART;TZID=Europe/Stockholm:20230223T120000
DTEND;TZID=Europe/Stockholm:20230223T150000
DTSTAMP:20230221T111409Z
URL:https://nordicaudio.eu/events/demo-slagverket-stockholm/
SUMMARY:Demo Slagverket Stockholm
DESCRIPTION:Demo Presonus Mixers
LOCATION:Slagverket\, Södermannagatan 10\, Stockholm\, 116 23\, Sweden
X-APPLE-STRUCTURED-LOCATION;VALUE=URI;X-ADDRESS=Södermannagatan 10\, Stock
 holm\, 116 23\, Sweden;X-APPLE-RADIUS=100;X-TITLE=Slagverket:geo:0,0
END:VEVENT
BEGIN:VTIMEZONE
TZID:Europe/Stockholm
X-LIC-LOCATION:Europe/Stockholm
BEGIN:STANDARD
DTSTART:20221030T020000
TZOFFSETFROM:+0200
TZOFFSETTO:+0100
TZNAME:CET
END:STANDARD
END:VTIMEZONE
END:VCALENDAR