    BEGIN:VCALENDAR
VERSION:2.0
PRODID:-//wp-events-plugin.com//7.2.3.1//EN
TZID:Europe/Stockholm
X-WR-TIMEZONE:Europe/Stockholm
BEGIN:VEVENT
UID:18@nordicaudio.eu
DTSTART;TZID=Europe/Helsinki;VALUE=DATE:20230826
DTEND;TZID=Europe/Helsinki;VALUE=DATE:20230827
DTSTAMP:20230810T151147Z
URL:https://nordicaudio.eu/events/joensuun-musiikkimessut/
SUMMARY:Joensuun Musiikkimessut
DESCRIPTION:Tapahtumassa on esillä alan tunnetuimmat merkit ja kuumimmat u
 utuudet. Tule inspiroitumaan ja jutustelemaan muiden soittajien sekä alan
  asiantuntijoiden kanssa! Kerubin alakerrassa on mahdollista testata erila
 isia soittokamoja ja päivän aikana järjestetään myös erilaisia klini
 koita.\n\nJoensuun Musiikkimessut\nAjankohta: 26.8.2023\nAvoinna: klo 11 -
  17\nPaikka: Ravintola Kerubi\nVapaa pääsy!
LOCATION:https://www.kerubi.fi
END:VEVENT
BEGIN:VTIMEZONE
TZID:Europe/Helsinki
X-LIC-LOCATION:Europe/Helsinki
BEGIN:DAYLIGHT
DTSTART:20230326T040000
TZOFFSETFROM:+0200
TZOFFSETTO:+0300
TZNAME:EEST
END:DAYLIGHT
END:VTIMEZONE
END:VCALENDAR